BEGIN:VCALENDAR
VERSION:2.0
PRODID:-//MILITARY OFFICERS ASSOCIATION OF AMERICA SOUTHWEST VIRGINIA CHAPTER - ECPv6.15.20//NONSGML v1.0//EN
CALSCALE:GREGORIAN
METHOD:PUBLISH
X-WR-CALNAME:MILITARY OFFICERS ASSOCIATION OF AMERICA SOUTHWEST VIRGINIA CHAPTER
X-ORIGINAL-URL:https://moaaswva.org
X-WR-CALDESC:Events for MILITARY OFFICERS ASSOCIATION OF AMERICA SOUTHWEST VIRGINIA CHAPTER
REFRESH-INTERVAL;VALUE=DURATION:PT1H
X-Robots-Tag:noindex
X-PUBLISHED-TTL:PT1H
BEGIN:VTIMEZONE
TZID:America/New_York
BEGIN:DAYLIGHT
TZOFFSETFROM:-0500
TZOFFSETTO:-0400
TZNAME:EDT
DTSTART:20250309T070000
END:DAYLIGHT
BEGIN:STANDARD
TZOFFSETFROM:-0400
TZOFFSETTO:-0500
TZNAME:EST
DTSTART:20251102T060000
END:STANDARD
BEGIN:DAYLIGHT
TZOFFSETFROM:-0500
TZOFFSETTO:-0400
TZNAME:EDT
DTSTART:20260308T070000
END:DAYLIGHT
BEGIN:STANDARD
TZOFFSETFROM:-0400
TZOFFSETTO:-0500
TZNAME:EST
DTSTART:20261101T060000
END:STANDARD
BEGIN:DAYLIGHT
TZOFFSETFROM:-0500
TZOFFSETTO:-0400
TZNAME:EDT
DTSTART:20270314T070000
END:DAYLIGHT
BEGIN:STANDARD
TZOFFSETFROM:-0400
TZOFFSETTO:-0500
TZNAME:EST
DTSTART:20271107T060000
END:STANDARD
END:VTIMEZONE
BEGIN:VEVENT
DTSTART;TZID=America/New_York:20260514T110000
DTEND;TZID=America/New_York:20260514T130000
DTSTAMP:20260422T072245
CREATED:20260122T152518Z
LAST-MODIFIED:20260122T153347Z
UID:732-1778756400-1778763600@moaaswva.org
SUMMARY:CHAPTER MEMBERSHIP BARBEQUE
DESCRIPTION:
URL:https://moaaswva.org/event/chapter-membership-barbeque-2/
LOCATION:AMERICAN LEGION POST 3\, 710 Apperson Drive\, Salem VA
CATEGORIES:MEMBERSHIP PROGRAM
END:VEVENT
BEGIN:VEVENT
DTSTART;TZID=America/New_York:20260917T100000
DTEND;TZID=America/New_York:20260917T113000
DTSTAMP:20260422T072245
CREATED:20260122T151159Z
LAST-MODIFIED:20260122T152727Z
UID:710-1789639200-1789644600@moaaswva.org
SUMMARY:BOARD OF DIRECTORS MEETING
DESCRIPTION:
URL:https://moaaswva.org/event/board-of-directors-meeting-9/
LOCATION:SALEM CIVIC CENTER\, PARLOR C\, 1001 Roanoke Blvd\, Salem\, VA\, 24153\, United States
CATEGORIES:BOARD MEETING
END:VEVENT
BEGIN:VEVENT
DTSTART;TZID=America/New_York:20260917T120000
DTEND;TZID=America/New_York:20260917T140000
DTSTAMP:20260422T072245
CREATED:20260122T152008Z
LAST-MODIFIED:20260122T152008Z
UID:724-1789646400-1789653600@moaaswva.org
SUMMARY:MEMBERSHIP MEETING AND PROGRAM
DESCRIPTION:
URL:https://moaaswva.org/event/membership-meeting-and-program-10/
LOCATION:SALEM CIVIC CENTER\, PARLOR C\, 1001 Roanoke Blvd\, Salem\, VA\, 24153\, United States
CATEGORIES:MEMBERSHIP PROGRAM
END:VEVENT
BEGIN:VEVENT
DTSTART;TZID=America/New_York:20261015T120000
DTEND;TZID=America/New_York:20261015T140000
DTSTAMP:20260422T072245
CREATED:20260122T152111Z
LAST-MODIFIED:20260122T152111Z
UID:726-1792065600-1792072800@moaaswva.org
SUMMARY:MEMBERSHIP MEETING AND PROGRAM
DESCRIPTION:
URL:https://moaaswva.org/event/membership-meeting-and-program-11/
LOCATION:SALEM CIVIC CENTER\, PARLOR C\, 1001 Roanoke Blvd\, Salem\, VA\, 24153\, United States
CATEGORIES:MEMBERSHIP PROGRAM
END:VEVENT
BEGIN:VEVENT
DTSTART;TZID=America/New_York:20261119T100000
DTEND;TZID=America/New_York:20261119T113000
DTSTAMP:20260422T072245
CREATED:20260122T151304Z
LAST-MODIFIED:20260122T152809Z
UID:712-1795082400-1795087800@moaaswva.org
SUMMARY:BOARD OF DIRECTORS MEETING
DESCRIPTION:
URL:https://moaaswva.org/event/board-of-directors-meeting-10/
LOCATION:SALEM CIVIC CENTER\, PARLOR C\, 1001 Roanoke Blvd\, Salem\, VA\, 24153\, United States
CATEGORIES:BOARD MEETING
END:VEVENT
BEGIN:VEVENT
DTSTART;TZID=America/New_York:20261119T120000
DTEND;TZID=America/New_York:20261119T140000
DTSTAMP:20260422T072245
CREATED:20260122T152209Z
LAST-MODIFIED:20260122T152209Z
UID:728-1795089600-1795096800@moaaswva.org
SUMMARY:MEMBERSHIP MEETING AND PROGRAM
DESCRIPTION:
URL:https://moaaswva.org/event/membership-meeting-and-program-12/
LOCATION:SALEM CIVIC CENTER\, PARLOR C\, 1001 Roanoke Blvd\, Salem\, VA\, 24153\, United States
CATEGORIES:MEMBERSHIP PROGRAM
END:VEVENT
BEGIN:VEVENT
DTSTART;TZID=America/New_York:20261217T100000
DTEND;TZID=America/New_York:20261217T113000
DTSTAMP:20260422T072245
CREATED:20260122T151402Z
LAST-MODIFIED:20260122T152845Z
UID:714-1797501600-1797507000@moaaswva.org
SUMMARY:BOARD OF DIRECTORS MEETING
DESCRIPTION:
URL:https://moaaswva.org/event/board-of-directors-meeting-11/
LOCATION:SALEM CIVIC CENTER\, PARLOR C\, 1001 Roanoke Blvd\, Salem\, VA\, 24153\, United States
CATEGORIES:BOARD MEETING
END:VEVENT
BEGIN:VEVENT
DTSTART;TZID=America/New_York:20261217T120000
DTEND;TZID=America/New_York:20261217T140000
DTSTAMP:20260422T072245
CREATED:20260122T152308Z
LAST-MODIFIED:20260122T152308Z
UID:730-1797508800-1797516000@moaaswva.org
SUMMARY:MEMBERSHIP MEETING AND PROGRAM
DESCRIPTION:
URL:https://moaaswva.org/event/membership-meeting-and-program-13/
LOCATION:SALEM CIVIC CENTER\, PARLOR C\, 1001 Roanoke Blvd\, Salem\, VA\, 24153\, United States
CATEGORIES:MEMBERSHIP PROGRAM
END:VEVENT
END:VCALENDAR