BEGIN:VCALENDAR
VERSION:2.0
PRODID:-//MILITARY OFFICERS ASSOCIATION OF AMERICA SOUTHWEST VIRGINIA CHAPTER - ECPv6.15.20//NONSGML v1.0//EN
CALSCALE:GREGORIAN
METHOD:PUBLISH
X-WR-CALNAME:MILITARY OFFICERS ASSOCIATION OF AMERICA SOUTHWEST VIRGINIA CHAPTER
X-ORIGINAL-URL:https://moaaswva.org
X-WR-CALDESC:Events for MILITARY OFFICERS ASSOCIATION OF AMERICA SOUTHWEST VIRGINIA CHAPTER
REFRESH-INTERVAL;VALUE=DURATION:PT1H
X-Robots-Tag:noindex
X-PUBLISHED-TTL:PT1H
BEGIN:VTIMEZONE
TZID:America/New_York
BEGIN:DAYLIGHT
TZOFFSETFROM:-0500
TZOFFSETTO:-0400
TZNAME:EDT
DTSTART:20250309T070000
END:DAYLIGHT
BEGIN:STANDARD
TZOFFSETFROM:-0400
TZOFFSETTO:-0500
TZNAME:EST
DTSTART:20251102T060000
END:STANDARD
BEGIN:DAYLIGHT
TZOFFSETFROM:-0500
TZOFFSETTO:-0400
TZNAME:EDT
DTSTART:20260308T070000
END:DAYLIGHT
BEGIN:STANDARD
TZOFFSETFROM:-0400
TZOFFSETTO:-0500
TZNAME:EST
DTSTART:20261101T060000
END:STANDARD
BEGIN:DAYLIGHT
TZOFFSETFROM:-0500
TZOFFSETTO:-0400
TZNAME:EDT
DTSTART:20270314T070000
END:DAYLIGHT
BEGIN:STANDARD
TZOFFSETFROM:-0400
TZOFFSETTO:-0500
TZNAME:EST
DTSTART:20271107T060000
END:STANDARD
END:VTIMEZONE
BEGIN:VEVENT
DTSTART;TZID=America/New_York:20260319T120000
DTEND;TZID=America/New_York:20260319T140000
DTSTAMP:20260425T174925
CREATED:20260122T151805Z
LAST-MODIFIED:20260122T151805Z
UID:720-1773921600-1773928800@moaaswva.org
SUMMARY:MEMBERSHIP MEETING AND PROGRAM
DESCRIPTION:
URL:https://moaaswva.org/event/membership-meeting-and-program-8/
LOCATION:SALEM CIVIC CENTER\, PARLOR C\, 1001 Roanoke Blvd\, Salem\, VA\, 24153\, United States
CATEGORIES:MEMBERSHIP PROGRAM
END:VEVENT
END:VCALENDAR