BEGIN:VCALENDAR
VERSION:2.0
PRODID:-//MILITARY OFFICERS ASSOCIATION OF AMERICA SOUTHWEST VIRGINIA CHAPTER - ECPv6.15.20//NONSGML v1.0//EN
CALSCALE:GREGORIAN
METHOD:PUBLISH
X-ORIGINAL-URL:https://moaaswva.org
X-WR-CALDESC:Events for MILITARY OFFICERS ASSOCIATION OF AMERICA SOUTHWEST VIRGINIA CHAPTER
REFRESH-INTERVAL;VALUE=DURATION:PT1H
X-Robots-Tag:noindex
X-PUBLISHED-TTL:PT1H
BEGIN:VTIMEZONE
TZID:America/New_York
BEGIN:DAYLIGHT
TZOFFSETFROM:-0500
TZOFFSETTO:-0400
TZNAME:EDT
DTSTART:20240310T070000
END:DAYLIGHT
BEGIN:STANDARD
TZOFFSETFROM:-0400
TZOFFSETTO:-0500
TZNAME:EST
DTSTART:20241103T060000
END:STANDARD
BEGIN:DAYLIGHT
TZOFFSETFROM:-0500
TZOFFSETTO:-0400
TZNAME:EDT
DTSTART:20250309T070000
END:DAYLIGHT
BEGIN:STANDARD
TZOFFSETFROM:-0400
TZOFFSETTO:-0500
TZNAME:EST
DTSTART:20251102T060000
END:STANDARD
BEGIN:DAYLIGHT
TZOFFSETFROM:-0500
TZOFFSETTO:-0400
TZNAME:EDT
DTSTART:20260308T070000
END:DAYLIGHT
BEGIN:STANDARD
TZOFFSETFROM:-0400
TZOFFSETTO:-0500
TZNAME:EST
DTSTART:20261101T060000
END:STANDARD
BEGIN:DAYLIGHT
TZOFFSETFROM:-0500
TZOFFSETTO:-0400
TZNAME:EDT
DTSTART:20270314T070000
END:DAYLIGHT
BEGIN:STANDARD
TZOFFSETFROM:-0400
TZOFFSETTO:-0500
TZNAME:EST
DTSTART:20271107T060000
END:STANDARD
END:VTIMEZONE
BEGIN:VEVENT
DTSTART;TZID=America/New_York:20260416T120000
DTEND;TZID=America/New_York:20260416T140000
DTSTAMP:20260425T161531
CREATED:20260122T151907Z
LAST-MODIFIED:20260122T151907Z
UID:722-1776340800-1776348000@moaaswva.org
SUMMARY:MEMBERSHIP MEETING AND PROGRAM
DESCRIPTION:
URL:https://moaaswva.org/event/membership-meeting-and-program-9/
LOCATION:SALEM CIVIC CENTER\, PARLOR C\, 1001 Roanoke Blvd\, Salem\, VA\, 24153\, United States
CATEGORIES:MEMBERSHIP PROGRAM
END:VEVENT
BEGIN:VEVENT
DTSTART;TZID=America/New_York:20260319T120000
DTEND;TZID=America/New_York:20260319T140000
DTSTAMP:20260425T161531
CREATED:20260122T151805Z
LAST-MODIFIED:20260122T151805Z
UID:720-1773921600-1773928800@moaaswva.org
SUMMARY:MEMBERSHIP MEETING AND PROGRAM
DESCRIPTION:
URL:https://moaaswva.org/event/membership-meeting-and-program-8/
LOCATION:SALEM CIVIC CENTER\, PARLOR C\, 1001 Roanoke Blvd\, Salem\, VA\, 24153\, United States
CATEGORIES:MEMBERSHIP PROGRAM
END:VEVENT
BEGIN:VEVENT
DTSTART;TZID=America/New_York:20260219T120000
DTEND;TZID=America/New_York:20260219T140000
DTSTAMP:20260425T161531
CREATED:20260122T151709Z
LAST-MODIFIED:20260122T151709Z
UID:718-1771502400-1771509600@moaaswva.org
SUMMARY:MEMBERSHIP MEETING AND PROGRAM
DESCRIPTION:
URL:https://moaaswva.org/event/membership-meeting-and-program-7/
LOCATION:SALEM CIVIC CENTER\, PARLOR C\, 1001 Roanoke Blvd\, Salem\, VA\, 24153\, United States
CATEGORIES:MEMBERSHIP PROGRAM
END:VEVENT
BEGIN:VEVENT
DTSTART;TZID=America/New_York:20260115T120000
DTEND;TZID=America/New_York:20260115T140000
DTSTAMP:20260425T161531
CREATED:20260122T151615Z
LAST-MODIFIED:20260122T151615Z
UID:716-1768478400-1768485600@moaaswva.org
SUMMARY:MEMBERSHIP MEETING AND PROGRAM
DESCRIPTION:
URL:https://moaaswva.org/event/membership-meeting-and-program-6/
LOCATION:SALEM CIVIC CENTER\, PARLOR C\, 1001 Roanoke Blvd\, Salem\, VA\, 24153\, United States
CATEGORIES:MEMBERSHIP PROGRAM
END:VEVENT
BEGIN:VEVENT
DTSTART;TZID=America/New_York:20250417T120000
DTEND;TZID=America/New_York:20250417T140000
DTSTAMP:20260425T161531
CREATED:20250117T190611Z
LAST-MODIFIED:20250117T190611Z
UID:227-1744891200-1744898400@moaaswva.org
SUMMARY:MEMBERSHIP MEETING AND PROGRAM
DESCRIPTION:Program by COL Hobie Pillsbury\, USA (Ret) on the World War II “Ghost Army”.  General Patton never actually commanded (since it never really existed!).  Included will be a ‘show and tell’ collection of genuine patches from most of the fictitious divisions of the “First U.S. Army Group” (FUSAG). The presentation will include pictures that tell the story of one of the most successful military deceptions of all time.  Most credit Eisenhower with the Allied success on D-Day\, but perhaps Hitler deserves the honor as he could have released reserve armored forces capable of easily destroying the beachhead\, but was absolutely convinced Normandy was just a feint and he had to wait for the “real” invasion by Patton’s FUSAG.
URL:https://moaaswva.org/event/membership-meeting-and-program-2/
CATEGORIES:MEMBERSHIP PROGRAM
END:VEVENT
END:VCALENDAR