BEGIN:VCALENDAR
VERSION:2.0
PRODID:-//MILITARY OFFICERS ASSOCIATION OF AMERICA SOUTHWEST VIRGINIA CHAPTER - ECPv6.15.20//NONSGML v1.0//EN
CALSCALE:GREGORIAN
METHOD:PUBLISH
X-WR-CALNAME:MILITARY OFFICERS ASSOCIATION OF AMERICA SOUTHWEST VIRGINIA CHAPTER
X-ORIGINAL-URL:https://moaaswva.org
X-WR-CALDESC:Events for MILITARY OFFICERS ASSOCIATION OF AMERICA SOUTHWEST VIRGINIA CHAPTER
REFRESH-INTERVAL;VALUE=DURATION:PT1H
X-Robots-Tag:noindex
X-PUBLISHED-TTL:PT1H
BEGIN:VTIMEZONE
TZID:America/New_York
BEGIN:DAYLIGHT
TZOFFSETFROM:-0500
TZOFFSETTO:-0400
TZNAME:EDT
DTSTART:20240310T070000
END:DAYLIGHT
BEGIN:STANDARD
TZOFFSETFROM:-0400
TZOFFSETTO:-0500
TZNAME:EST
DTSTART:20241103T060000
END:STANDARD
BEGIN:DAYLIGHT
TZOFFSETFROM:-0500
TZOFFSETTO:-0400
TZNAME:EDT
DTSTART:20250309T070000
END:DAYLIGHT
BEGIN:STANDARD
TZOFFSETFROM:-0400
TZOFFSETTO:-0500
TZNAME:EST
DTSTART:20251102T060000
END:STANDARD
BEGIN:DAYLIGHT
TZOFFSETFROM:-0500
TZOFFSETTO:-0400
TZNAME:EDT
DTSTART:20260308T070000
END:DAYLIGHT
BEGIN:STANDARD
TZOFFSETFROM:-0400
TZOFFSETTO:-0500
TZNAME:EST
DTSTART:20261101T060000
END:STANDARD
BEGIN:DAYLIGHT
TZOFFSETFROM:-0500
TZOFFSETTO:-0400
TZNAME:EDT
DTSTART:20270314T070000
END:DAYLIGHT
BEGIN:STANDARD
TZOFFSETFROM:-0400
TZOFFSETTO:-0500
TZNAME:EST
DTSTART:20271107T060000
END:STANDARD
END:VTIMEZONE
BEGIN:VEVENT
DTSTART;TZID=America/New_York:20260416T120000
DTEND;TZID=America/New_York:20260416T140000
DTSTAMP:20260425T113429
CREATED:20260122T151907Z
LAST-MODIFIED:20260122T151907Z
UID:722-1776340800-1776348000@moaaswva.org
SUMMARY:MEMBERSHIP MEETING AND PROGRAM
DESCRIPTION:
URL:https://moaaswva.org/event/membership-meeting-and-program-9/
LOCATION:SALEM CIVIC CENTER\, PARLOR C\, 1001 Roanoke Blvd\, Salem\, VA\, 24153\, United States
CATEGORIES:MEMBERSHIP PROGRAM
END:VEVENT
BEGIN:VEVENT
DTSTART;TZID=America/New_York:20260416T100000
DTEND;TZID=America/New_York:20260416T113000
DTSTAMP:20260425T113430
CREATED:20260122T151037Z
LAST-MODIFIED:20260122T152646Z
UID:708-1776333600-1776339000@moaaswva.org
SUMMARY:BOARD OF DIRECTORS MEETING
DESCRIPTION:
URL:https://moaaswva.org/event/board-of-directors-meeting-8/
LOCATION:SALEM CIVIC CENTER\, PARLOR C\, 1001 Roanoke Blvd\, Salem\, VA\, 24153\, United States
CATEGORIES:BOARD MEETING
END:VEVENT
BEGIN:VEVENT
DTSTART;TZID=America/New_York:20260319T120000
DTEND;TZID=America/New_York:20260319T140000
DTSTAMP:20260425T113430
CREATED:20260122T151805Z
LAST-MODIFIED:20260122T151805Z
UID:720-1773921600-1773928800@moaaswva.org
SUMMARY:MEMBERSHIP MEETING AND PROGRAM
DESCRIPTION:
URL:https://moaaswva.org/event/membership-meeting-and-program-8/
LOCATION:SALEM CIVIC CENTER\, PARLOR C\, 1001 Roanoke Blvd\, Salem\, VA\, 24153\, United States
CATEGORIES:MEMBERSHIP PROGRAM
END:VEVENT
BEGIN:VEVENT
DTSTART;TZID=America/New_York:20260219T120000
DTEND;TZID=America/New_York:20260219T140000
DTSTAMP:20260425T113430
CREATED:20260122T151709Z
LAST-MODIFIED:20260122T151709Z
UID:718-1771502400-1771509600@moaaswva.org
SUMMARY:MEMBERSHIP MEETING AND PROGRAM
DESCRIPTION:
URL:https://moaaswva.org/event/membership-meeting-and-program-7/
LOCATION:SALEM CIVIC CENTER\, PARLOR C\, 1001 Roanoke Blvd\, Salem\, VA\, 24153\, United States
CATEGORIES:MEMBERSHIP PROGRAM
END:VEVENT
BEGIN:VEVENT
DTSTART;TZID=America/New_York:20260219T100000
DTEND;TZID=America/New_York:20260219T113000
DTSTAMP:20260425T113430
CREATED:20260122T150950Z
LAST-MODIFIED:20260122T152614Z
UID:706-1771495200-1771500600@moaaswva.org
SUMMARY:BOARD OF DIRECTORS MEETING
DESCRIPTION:
URL:https://moaaswva.org/event/board-of-directors-meeting-7/
LOCATION:SALEM CIVIC CENTER\, PARLOR C\, 1001 Roanoke Blvd\, Salem\, VA\, 24153\, United States
CATEGORIES:BOARD MEETING
END:VEVENT
BEGIN:VEVENT
DTSTART;TZID=America/New_York:20260115T120000
DTEND;TZID=America/New_York:20260115T140000
DTSTAMP:20260425T113430
CREATED:20260122T151615Z
LAST-MODIFIED:20260122T151615Z
UID:716-1768478400-1768485600@moaaswva.org
SUMMARY:MEMBERSHIP MEETING AND PROGRAM
DESCRIPTION:
URL:https://moaaswva.org/event/membership-meeting-and-program-6/
LOCATION:SALEM CIVIC CENTER\, PARLOR C\, 1001 Roanoke Blvd\, Salem\, VA\, 24153\, United States
CATEGORIES:MEMBERSHIP PROGRAM
END:VEVENT
BEGIN:VEVENT
DTSTART;TZID=America/New_York:20260115T100000
DTEND;TZID=America/New_York:20260115T113000
DTSTAMP:20260425T113430
CREATED:20260122T150841Z
LAST-MODIFIED:20260122T150841Z
UID:704-1768471200-1768476600@moaaswva.org
SUMMARY:BOARD OF DIRECTORS MEETING
DESCRIPTION:
URL:https://moaaswva.org/event/board-of-directors-meeting-6/
LOCATION:SALEM CIVIC CENTER\, PARLOR C\, 1001 Roanoke Blvd\, Salem\, VA\, 24153\, United States
CATEGORIES:BOARD MEETING
END:VEVENT
BEGIN:VEVENT
DTSTART;TZID=America/New_York:20251218T120000
DTEND;TZID=America/New_York:20251218T140000
DTSTAMP:20260425T113430
CREATED:20250117T191652Z
LAST-MODIFIED:20250117T191652Z
UID:249-1766059200-1766066400@moaaswva.org
SUMMARY:MEMBERSHIP MEETING AND PROGRAM
DESCRIPTION:
URL:https://moaaswva.org/event/membership-meeting-and-program-5/
END:VEVENT
BEGIN:VEVENT
DTSTART;TZID=America/New_York:20251218T100000
DTEND;TZID=America/New_York:20251218T113000
DTSTAMP:20260425T113430
CREATED:20250117T191552Z
LAST-MODIFIED:20250117T191552Z
UID:245-1766052000-1766057400@moaaswva.org
SUMMARY:BOARD OF DIRECTORS MEETING
DESCRIPTION:
URL:https://moaaswva.org/event/board-of-directors-meeting-5/
END:VEVENT
BEGIN:VEVENT
DTSTART;TZID=America/New_York:20251120T120000
DTEND;TZID=America/New_York:20251120T140000
DTSTAMP:20260425T113430
CREATED:20250117T191459Z
LAST-MODIFIED:20250117T191459Z
UID:243-1763640000-1763647200@moaaswva.org
SUMMARY:MEMBERSHIP MEETING AND PROGRAM
DESCRIPTION:
URL:https://moaaswva.org/event/membership-meeting-and-program-4/
END:VEVENT
BEGIN:VEVENT
DTSTART;TZID=America/New_York:20251120T100000
DTEND;TZID=America/New_York:20251120T113000
DTSTAMP:20260425T113430
CREATED:20250117T191410Z
LAST-MODIFIED:20250117T191410Z
UID:241-1763632800-1763638200@moaaswva.org
SUMMARY:BOARD OF DIRECTORS MEETING
DESCRIPTION:
URL:https://moaaswva.org/event/board-of-directors-meeting-4/
END:VEVENT
BEGIN:VEVENT
DTSTART;TZID=America/New_York:20251016T120000
DTEND;TZID=America/New_York:20251016T140000
DTSTAMP:20260425T113430
CREATED:20250117T191304Z
LAST-MODIFIED:20250117T191304Z
UID:239-1760616000-1760623200@moaaswva.org
SUMMARY:CHAPTER MEMBERSHIP MEETING AND PROGRAM
DESCRIPTION:
URL:https://moaaswva.org/event/chapter-membership-meeting-and-program-2/
END:VEVENT
BEGIN:VEVENT
DTSTART;TZID=America/New_York:20250918T120000
DTEND;TZID=America/New_York:20250918T140000
DTSTAMP:20260425T113430
CREATED:20250117T191200Z
LAST-MODIFIED:20250117T191200Z
UID:237-1758196800-1758204000@moaaswva.org
SUMMARY:CHAPTER MEMBERSHIP MEETING AND PROGRAM
DESCRIPTION:
URL:https://moaaswva.org/event/chapter-membership-meeting-and-program/
END:VEVENT
BEGIN:VEVENT
DTSTART;TZID=America/New_York:20250918T120000
DTEND;TZID=America/New_York:20250918T140000
DTSTAMP:20260425T113430
CREATED:20250117T191037Z
LAST-MODIFIED:20250117T191037Z
UID:233-1758196800-1758204000@moaaswva.org
SUMMARY:MEMBERSHIP MEETING AND PROGRAM
DESCRIPTION:
URL:https://moaaswva.org/event/membership-meeting-and-program-3/
END:VEVENT
BEGIN:VEVENT
DTSTART;TZID=America/New_York:20250918T100000
DTEND;TZID=America/New_York:20250918T113000
DTSTAMP:20260425T113430
CREATED:20250117T190938Z
LAST-MODIFIED:20250117T190938Z
UID:231-1758189600-1758195000@moaaswva.org
SUMMARY:BOARD OF DIRECTORS MEETING
DESCRIPTION:
URL:https://moaaswva.org/event/board-of-directors-meeting-3/
END:VEVENT
BEGIN:VEVENT
DTSTART;TZID=America/New_York:20250515T120000
DTEND;TZID=America/New_York:20250515T140000
DTSTAMP:20260425T113430
CREATED:20250117T190740Z
LAST-MODIFIED:20250117T190740Z
UID:229-1747310400-1747317600@moaaswva.org
SUMMARY:CHAPTER MEMBERSHIP BARBEQUE
DESCRIPTION:Chapter Membership BBQ meeting at the American Legion Post 3 shelter facility in Salem\, Virginia catered by Mission BBQ in Roanoke.  Program to be determined.
URL:https://moaaswva.org/event/chapter-membership-barbeque/
END:VEVENT
BEGIN:VEVENT
DTSTART;TZID=America/New_York:20250417T120000
DTEND;TZID=America/New_York:20250417T140000
DTSTAMP:20260425T113430
CREATED:20250117T190611Z
LAST-MODIFIED:20250117T190611Z
UID:227-1744891200-1744898400@moaaswva.org
SUMMARY:MEMBERSHIP MEETING AND PROGRAM
DESCRIPTION:Program by COL Hobie Pillsbury\, USA (Ret) on the World War II “Ghost Army”.  General Patton never actually commanded (since it never really existed!).  Included will be a ‘show and tell’ collection of genuine patches from most of the fictitious divisions of the “First U.S. Army Group” (FUSAG). The presentation will include pictures that tell the story of one of the most successful military deceptions of all time.  Most credit Eisenhower with the Allied success on D-Day\, but perhaps Hitler deserves the honor as he could have released reserve armored forces capable of easily destroying the beachhead\, but was absolutely convinced Normandy was just a feint and he had to wait for the “real” invasion by Patton’s FUSAG.
URL:https://moaaswva.org/event/membership-meeting-and-program-2/
CATEGORIES:MEMBERSHIP PROGRAM
END:VEVENT
BEGIN:VEVENT
DTSTART;TZID=America/New_York:20250417T100000
DTEND;TZID=America/New_York:20250417T233000
DTSTAMP:20260425T113430
CREATED:20250117T190436Z
LAST-MODIFIED:20250117T190436Z
UID:225-1744884000-1744932600@moaaswva.org
SUMMARY:BOARD OF DIRECTORS MEETING
DESCRIPTION:
URL:https://moaaswva.org/event/board-of-directors-meeting-2/
CATEGORIES:BOARD MEETING
END:VEVENT
BEGIN:VEVENT
DTSTART;TZID=America/New_York:20250415T150000
DTEND;TZID=America/New_York:20250415T160000
DTSTAMP:20260425T113430
CREATED:20250201T215906Z
LAST-MODIFIED:20250201T215906Z
UID:626-1744729200-1744732800@moaaswva.org
SUMMARY:VIRGINIA COUNCIL OF CHAPTERS ZOOM MEETING
DESCRIPTION:
URL:https://moaaswva.org/event/virginia-council-of-chapters-zoom-meeting/
END:VEVENT
BEGIN:VEVENT
DTSTART;TZID=America/New_York:20250320T120000
DTEND;TZID=America/New_York:20250320T140000
DTSTAMP:20260425T113430
CREATED:20250117T190203Z
LAST-MODIFIED:20250117T190203Z
UID:222-1742472000-1742479200@moaaswva.org
SUMMARY:MEMERSHIP MEETING AND PROGRAM
DESCRIPTION:Program by COL Claude Shmid\, USA (Ret) on the “Last Patrol”. The Last Patrol connects veteran volunteers to veterans in hospice. They cooperate with medical providers of hospice care to connect volunteers to the patients so that their last patrol isn’t alone. It’s hard to overestimate the importance of friendship during end-of-life care. Last Patrol brings new friendships when friendship matters most.  When America’s veterans go into hospice care they often lose contact with family\, friends\, and with the military community. Some are alone. Some sit quietly in nursing homes. Many families are loving and attentive to their hospice patient\, but appreciate getting the support\, connection\, and information that a friend from the military community can provide. Last Patrol helps provide that support.  NOTE: At one time there was a similar program here in Roanoke\, Affinity Care of Virginia\, a hospice organization operating out of the Roanoke area.  The Southwest Virginia Chapter was requested to participate in the “We Honor Veterans Program”\, a partnership between the National Hospice and Palliative Care Organization (NHPCO) and the Department of Veterans Affairs. The program offers care for veteran-specific physical or emotional issues that may arise near the end of life.  In January 2023 Affinity Care of Virginia approached the Southwest Virginia Chapter to participate in a large “Pinning Ceremony” at Richfield Living-The Health Center-Salem Campus. They had 7 veterans who they were honoring\, representing the Air Force\, Army\, and National Guard.  I do not know if that program is still in existence.  There is also here in Southwest Virginia a program\, “Honor Flight” that takes veterans for a day of honor in our nation’s capital.​\n 
URL:https://moaaswva.org/event/memership-meeting-and-program/
END:VEVENT
BEGIN:VEVENT
DTSTART;TZID=America/New_York:20250226T183000
DTEND;TZID=America/New_York:20250226T193000
DTSTAMP:20260425T113430
CREATED:20250201T215557Z
LAST-MODIFIED:20250217T141449Z
UID:623-1740594600-1740598200@moaaswva.org
SUMMARY:VITTLES FOR VETS BOARD MEETING
DESCRIPTION:
URL:https://moaaswva.org/event/vittles-for-vets-board-meeting/
LOCATION:Radford Public Library\, 30 W. Main Street\, Radford\, VA\, 24141\, United States
END:VEVENT
BEGIN:VEVENT
DTSTART;TZID=America/New_York:20250220T120000
DTEND;TZID=America/New_York:20250220T140000
DTSTAMP:20260425T113430
CREATED:20250117T150457Z
LAST-MODIFIED:20250130T155443Z
UID:211-1740052800-1740060000@moaaswva.org
SUMMARY:MEMBERSHIP MEETING AND PROGRAM
DESCRIPTION:Program by Dr. Brian K. Unwin\, MD\, Chief of Geriatrics & Palliative Medicine\, Carilion on “The Cost of Aging”.  The cost of aging can be significant\, including the cost of long-term care\, basic expenses\, and healthcare in retirement.  Long-term care:  The HHS estimates that Americans turning 65 in 2022 will incur an average of $120\,900 in long-term care costs. Families are expected to pay nearly 40% of these costs out-of-pocket. Basic expenses: The Elder Index estimates that a single older adult in good health needed $27\,096 for basic expenses in 2021\, which is $14\,100 more than the federal poverty threshold. Healthcare in retirement. Fidelity Investments estimates that a 65-year-old retiring in 2023 should expect to spend an average of $157\,500 for health and medical expenses throughout retirement. Support services. The median monthly cost of adult day services is $1\,690\, while a home health aide costs $5\,148 per month.\n 
URL:https://moaaswva.org/event/membership-meeting-and-program/
LOCATION:SALEM CIVIC CENTER\, PARLOR C\, 1001 Roanoke Blvd\, Salem\, VA\, 24153\, United States
END:VEVENT
BEGIN:VEVENT
DTSTART;TZID=America/New_York:20250220T100000
DTEND;TZID=America/New_York:20250220T120000
DTSTAMP:20260425T113430
CREATED:20250117T150202Z
LAST-MODIFIED:20250130T155331Z
UID:209-1740045600-1740052800@moaaswva.org
SUMMARY:BOARD OF DIRECTORS MEETING
DESCRIPTION:
URL:https://moaaswva.org/event/board-of-directors-meeting/
LOCATION:SALEM CIVIC CENTER\, PARLOR C\, 1001 Roanoke Blvd\, Salem\, VA\, 24153\, United States
END:VEVENT
BEGIN:VEVENT
DTSTART;TZID=America/New_York:20250116T120000
DTEND;TZID=America/New_York:20250116T140000
DTSTAMP:20260425T113430
CREATED:20250117T145738Z
LAST-MODIFIED:20250117T145738Z
UID:206-1737028800-1737036000@moaaswva.org
SUMMARY:MEMBERSHIP MEETING & PROGRAM
DESCRIPTION:
URL:https://moaaswva.org/event/membership-meeting-program/
LOCATION:Hidden Valley Country Club\, 2500 Romar Rd\, Salem\, VA\, United States
END:VEVENT
BEGIN:VEVENT
DTSTART;TZID=America/New_York:20250116T100000
DTEND;TZID=America/New_York:20250116T113000
DTSTAMP:20260425T113430
CREATED:20250117T145608Z
LAST-MODIFIED:20250117T145930Z
UID:203-1737021600-1737027000@moaaswva.org
SUMMARY:BOARD OF DIRECTORS MEETING
DESCRIPTION:
URL:https://moaaswva.org/event/board-of-directors-meetinng/
LOCATION:Hidden Valley Country Club\, 2500 Romar Rd\, Salem\, VA\, United States
END:VEVENT
END:VCALENDAR